BEGIN:VCALENDAR
VERSION:2.0
PRODID:-//Irene Kurka - ECPv6.15.20//NONSGML v1.0//EN
CALSCALE:GREGORIAN
METHOD:PUBLISH
X-WR-CALNAME:Irene Kurka
X-ORIGINAL-URL:https://irenekurka.de
X-WR-CALDESC:Veranstaltungen für Irene Kurka
REFRESH-INTERVAL;VALUE=DURATION:PT1H
X-Robots-Tag:noindex
X-PUBLISHED-TTL:PT1H
BEGIN:VTIMEZONE
TZID:Europe/Berlin
BEGIN:DAYLIGHT
TZOFFSETFROM:+0100
TZOFFSETTO:+0200
TZNAME:CEST
DTSTART:20230326T010000
END:DAYLIGHT
BEGIN:STANDARD
TZOFFSETFROM:+0200
TZOFFSETTO:+0100
TZNAME:CET
DTSTART:20231029T010000
END:STANDARD
BEGIN:DAYLIGHT
TZOFFSETFROM:+0100
TZOFFSETTO:+0200
TZNAME:CEST
DTSTART:20240331T010000
END:DAYLIGHT
BEGIN:STANDARD
TZOFFSETFROM:+0200
TZOFFSETTO:+0100
TZNAME:CET
DTSTART:20241027T010000
END:STANDARD
BEGIN:DAYLIGHT
TZOFFSETFROM:+0100
TZOFFSETTO:+0200
TZNAME:CEST
DTSTART:20250330T010000
END:DAYLIGHT
BEGIN:STANDARD
TZOFFSETFROM:+0200
TZOFFSETTO:+0100
TZNAME:CET
DTSTART:20251026T010000
END:STANDARD
END:VTIMEZONE
BEGIN:VEVENT
DTSTART;VALUE=DATE:20240928
DTEND;VALUE=DATE:20240930
DTSTAMP:20260421T145550
CREATED:20240308T171010Z
LAST-MODIFIED:20240711T100939Z
UID:1260-1727481600-1727654399@irenekurka.de
SUMMARY:Ensemble Crush und KlangBegegnung III mit Irene Kurka - Werke von Salvatore Sciarrino\, Cage\, Bleffert u.a.
DESCRIPTION:28.-29.09.2024 – Cubus Kunsthalle\, Duisburg \n„KlangBegegnung III“ \nFestival mit Irene Kurka & Ensemble CRUSH \nEnsemble CRUSH \n 
URL:https://irenekurka.de/events/ensemble-crush-werke-von-salvatore-sciarrino
LOCATION:Duisburg\, Duisburg
CATEGORIES:Konzert
END:VEVENT
END:VCALENDAR