BEGIN:VCALENDAR
VERSION:2.0
PRODID:-//Irene Kurka - ECPv6.15.20//NONSGML v1.0//EN
CALSCALE:GREGORIAN
METHOD:PUBLISH
X-ORIGINAL-URL:https://irenekurka.de
X-WR-CALDESC:Veranstaltungen für Irene Kurka
REFRESH-INTERVAL;VALUE=DURATION:PT1H
X-Robots-Tag:noindex
X-PUBLISHED-TTL:PT1H
BEGIN:VTIMEZONE
TZID:Europe/Berlin
BEGIN:DAYLIGHT
TZOFFSETFROM:+0100
TZOFFSETTO:+0200
TZNAME:CEST
DTSTART:20230326T010000
END:DAYLIGHT
BEGIN:STANDARD
TZOFFSETFROM:+0200
TZOFFSETTO:+0100
TZNAME:CET
DTSTART:20231029T010000
END:STANDARD
BEGIN:DAYLIGHT
TZOFFSETFROM:+0100
TZOFFSETTO:+0200
TZNAME:CEST
DTSTART:20240331T010000
END:DAYLIGHT
BEGIN:STANDARD
TZOFFSETFROM:+0200
TZOFFSETTO:+0100
TZNAME:CET
DTSTART:20241027T010000
END:STANDARD
BEGIN:DAYLIGHT
TZOFFSETFROM:+0100
TZOFFSETTO:+0200
TZNAME:CEST
DTSTART:20250330T010000
END:DAYLIGHT
BEGIN:STANDARD
TZOFFSETFROM:+0200
TZOFFSETTO:+0100
TZNAME:CET
DTSTART:20251026T010000
END:STANDARD
END:VTIMEZONE
BEGIN:VEVENT
DTSTART;TZID=Europe/Berlin:20240510T170000
DTEND;TZID=Europe/Berlin:20240510T170000
DTSTAMP:20260423T151408
CREATED:20240508T133346Z
LAST-MODIFIED:20240508T133346Z
UID:4231-1715360400-1715360400@irenekurka.de
SUMMARY:Bayernslam 2024 U-20 Halbfinale
DESCRIPTION:Bayernslam 2024 U-20 Halbfinale\nIrene Kurka\, featured artist\n17Uhr \nVilla Concordia Bamberg
URL:https://irenekurka.de/events/bayernslam-2024-u-20-halbfinale
LOCATION:Villa Concordia\, Bamberg
END:VEVENT
BEGIN:VEVENT
DTSTART;VALUE=DATE:20240512
DTEND;VALUE=DATE:20240513
DTSTAMP:20260423T151408
CREATED:20240308T170817Z
LAST-MODIFIED:20240308T171037Z
UID:1254-1715472000-1715558399@irenekurka.de
SUMMARY:Gottesdienst mit Barockmusik
DESCRIPTION:
URL:https://irenekurka.de/events/gottesdienst-mit-barockmusik
LOCATION:Basilika Kaiserswerth\, Stifts-Gasse 3\, Düsseldorf\, NRW\, 40489
CATEGORIES:Gottesdienst,Konzert
END:VEVENT
BEGIN:VEVENT
DTSTART;VALUE=DATE:20240515
DTEND;VALUE=DATE:20240516
DTSTAMP:20260423T151408
CREATED:20240308T170846Z
LAST-MODIFIED:20240308T171057Z
UID:1256-1715731200-1715817599@irenekurka.de
SUMMARY:Na hörn Sie mal\, Konzert mit dem notabu Ensemble
DESCRIPTION:
URL:https://irenekurka.de/events/na-hoern-sie-mal-konzert-mit-dem-notabu-ensemble
LOCATION:Trautvetter-Brückner-Saal der Tonhalle\, Ehrenhof 1\, Düsseldorf\, 40479
CATEGORIES:Konzert
END:VEVENT
BEGIN:VEVENT
DTSTART;TZID=Europe/Berlin:20240519T180000
DTEND;TZID=Europe/Berlin:20240519T193000
DTSTAMP:20260423T151408
CREATED:20240513T101728Z
LAST-MODIFIED:20240513T101904Z
UID:4293-1716141600-1716147000@irenekurka.de
SUMMARY:hORA mit Musik von Mauricio Kagel und Toby Roundell
DESCRIPTION:
URL:https://irenekurka.de/events/hora-mit-musik-von-mauricio-kagel-und-toby-roundell
END:VEVENT
END:VCALENDAR